Workbook
Name cisloobjektu: 'Krycí list'!$A$4
Name cislostavby: 'Krycí list'!$A$6
Name Datum: 'Krycí list'!$B$26
Name Dil: Rekapitulace!$A$6
Name Dodavka: Rekapitulace!$G$14
Name Dodavka0: Položky!#REF!
Name HSV: Rekapitulace!$E$14
Name HSV0: Položky!#REF!
Name HZS: Rekapitulace!$I$14
Name HZS0: Položky!#REF!
Name JKSO: 'Krycí list'!$F$4
Name MJ: 'Krycí list'!$G$4
Name Mont: Rekapitulace!$H$14
Name Montaz0: Položky!#REF!
Name NazevDilu: Rekapitulace!$B$6
Name nazevobjektu: 'Krycí list'!$C$4
Name nazevstavby: 'Krycí list'!$C$6
Name Objednatel: 'Krycí list'!$C$8
Name PocetMJ: 'Krycí list'!$G$7
Name Poznamka: 'Krycí list'!$B$37
Name Projektant: 'Krycí list'!$C$7
Name PSV: Rekapitulace!$F$14
Name PSV0: Položky!#REF!
Name SloupecCC: Položky!$G$6
Name SloupecCisloPol: Položky!$B$6
Name SloupecCH: Položky!$I$6
Name SloupecJC: Položky!$F$6
Name SloupecJH: Položky!$H$6
Name SloupecMJ: Položky!$D$6
Name SloupecMnozstvi: Položky!$E$6
Name SloupecNazPol: Položky!$C$6
Name SloupecPC: Položky!$A$6
Name Typ: Položky!#REF!
Name VRN: Rekapitulace!$H$20
Name VRNKc: Rekapitulace!$E$19
Name VRNnazev: Rekapitulace!$A$19
Name VRNproc: Rekapitulace!$F$19
Name VRNzakl: Rekapitulace!$G$19
Name Zakazka: 'Krycí list'!$G$9
Name Zaklad22: 'Krycí list'!$F$32
Name Zaklad5: 'Krycí list'!$F$30
Name Zhotovitel: 'Krycí list'!$E$11

Sheet Krycí list
A1: KRYCÍ LIST ROZPOČTU
A3: Objekt : | C3: Název objektu : | F3: JKSO :
A5: Stavba : | C5: Název stavby : | F5: SKP :
C6: STAVEBNÍ ÚPRAVY CHODNÍKU HODONICE, UL. KRHOVICKÁ
A7: Projektant : | E7: Počet měrných jednotek : | G7: 0
A8: Objednatel : | E8: Náklady na MJ : | G8: =IF(PocetMJ=0,,ROUND((F30+F32)/PocetMJ,1)) -> 0
A9: Počet listů : | E9: Zakázkové číslo :
A10: Zpracovatel projektu : | E10: Zhotovitel :
A12: ROZPOČTOVÉ NÁKLADY
A13: Rozpočtové náklady II. a III. hlavy | D13: Vedlejší rozpočtové náklady
B14: Dodávka celkem | C14: =Dodavka -> 0
A15: Z | B15: Montáž celkem | C15: =Mont -> 0
A16: R | B16: HSV celkem | C16: =HSV -> 0
A17: N | B17: PSV celkem | C17: =PSV -> 0
A18: ZRN celkem | C18: =SUM(C14:C17) -> 0
A20: HZS | C20: =HZS -> 0
A21: RN II.a III.hlavy | C21: =C18+C20 -> 0 | D21: Ostatní VRN | G21: =G22-SUM(G14:G20) -> 0
A22: ZRN+VRN+HZS | C22: =C21+G22 -> 0 | D22: VRN celkem | G22: =VRN -> 0
A23: Vypracoval | C23: Za zhotovitele | E23: Za objednatele
C24: Jméno : | E24: Jméno :
A25: Datum : | C25: Datum : | E25: Datum :
C26: Podpis: | E26: Podpis :
A29: Základ pro DPH | C29: 0 | D29: % činí :
A30: Základ pro DPH | C30: 15 | D30: % činí :
A31: DPH | C31: 15 | D31: % činí :
A32: Základ pro DPH | C32: 21 | D32: % činí :
A33: DPH | C33: 21 | D33: % činí :
A34: CENA ZA OBJEKT CELKEM | F34: =ROUND(SUM(F30:F33),0) -> 0
A36: Poznámka :
B37: Nedílnou součástí výkazu výměr je projektová dokumentace. Nutno kalkulovat se ztíženým kladením dlažby, resp. s řezáním dlažby do stávajících vymezujících konstrukcí, resp. s nutným prořezem včetně ztratného.

Sheet Rekapitulace
A1: Stavba : | C1: =CONCATENATE(cislostavby," ",nazevstavby) -> STAVEBNÍ ÚPRAVY CHODNÍKU HODONICE, UL. KRHOVICKÁ
A2: Objekt : | C2: =CONCATENATE(cisloobjektu," ",nazevobjektu)
A4: REKAPITULACE STAVEBNÍCH DÍLŮ
B6: Stavební díl | E6: HSV | F6: PSV | G6: Dodávka | H6: Montáž | I6: HZS
A7: =Položky!B7 -> 1 | B7: =Položky!C7 -> Zemní práce | E7: =Položky!BC30 -> 0 | F7: =Položky!BD30 -> 0 | G7: =Položky!BE30 -> 0 | H7: =Položky!BF30 -> 0 | I7: =Položky!BG30 -> 0
A8: =Položky!B31 -> 5 | B8: =Položky!C31 -> Komunikace | E8: =Položky!BC48 -> 0 | F8: =Položky!BD48 -> 0 | G8: =Položky!BE48 -> 0 | H8: =Položky!BF48 -> 0 | I8: =Položky!BG48 -> 0
A9: =Položky!B49 -> 8 | B9: =Položky!C49 -> Trubní vedení | E9: =Položky!BC52 -> 0 | F9: =Položky!BD52 -> 0 | G9: =Položky!BE52 -> 0 | H9: =Položky!BF52 -> 0 | I9: =Položky!BG52 -> 0
A10: =Položky!B53 -> 91 | B10: =Položky!C53 -> Doplňující práce na komunikaci | E10: =Položky!BC59 -> 0 | F10: =Položky!BD59 -> 0 | G10: =Položky!BE59 -> 0 | H10: =Položky!BF59 -> 0 | I10: =Položky!BG59 -> 0
A11: =Položky!B60 -> 97 | B11: =Položky!C60 -> Prorážení otvorů | E11: =Položky!BC69 -> 0 | F11: =Položky!BD69 -> 0 | G11: =Položky!BE69 -> 0 | H11: =Položky!BF69 -> 0 | I11: =Položky!BG69 -> 0
A12: =Položky!B70 -> 99 | B12: =Položky!C70 -> Staveništní přesun hmot | E12: =Položky!BC73 -> 0 | F12: =Položky!BD73 -> 0 | G12: =Položky!BE73 -> 0 | H12: =Položky!BF73 -> 0 | I12: =Položky!BG73 -> 0
A13: =Položky!B74 -> M46 | B13: =Položky!C74 -> Zemní práce při montážích | E13: =Položky!BC77 -> 0 | F13: =Položky!BD77 -> 0 | G13: =Položky!BE77 -> 0 | H13: =Položky!BF77 -> 0 | I13: =Položky!BG77 -> 0
B14: CELKEM OBJEKT | E14: =SUM(E7:E13) -> 0 | F14: =SUM(F7:F13) -> 0 | G14: =SUM(G7:G13) -> 0 | H14: =SUM(H7:H13) -> 0 | I14: =SUM(I7:I13) -> 0
A16: VEDLEJŠÍ ROZPOČTOVÉ NÁKLADY
A18: Název VRN | E18: Kč | F18: % | G18: Základna | I18: Kč
G19: =CHOOSE(BA19+1,HSV+PSV,HSV+PSV+Mont,HSV+PSV+Dodavka+Mont,HSV,PSV,Mont,Dodavka,Mont+Dodavka,0) -> 0 | I19: =E19+F19*G19/100 -> 0 | BA19: 8
B20: CELKEM VRN | H20: =SUM(H19:H19) -> 0

Sheet Položky
A1: Položkový rozpočet
A3: Stavba : | C3: =CONCATENATE(cislostavby," ",nazevstavby) -> STAVEBNÍ ÚPRAVY CHODNÍKU HODONICE, UL. KRHOVICKÁ | H3: =Rekapitulace!H1 -> 0
A4: Objekt : | C4: =CONCATENATE(cisloobjektu," ",nazevobjektu)
A6: P.č. | B6: Číslo položky | C6: Název položky | D6: MJ | E6: množství | F6: cena / MJ | G6: celkem (Kč) | H6: hmotnost / MJ | I6: hmotnost celk.(t) | J6: demhmot / MJ | K6: demhmot celk.(t)
A7: Díl: | B7: 1 | C7: Zemní práce
A8: 1 | B8: 113 10-6121.R00 | C8: Rozebrání dlažeb z betonových dlaždic na sucho NENACEŇOVAT - PROVEDE OBEC SAMA ! | D8: m2 | E8: 833.31 | G8: =E8*F8 -> 0 | H8: 0 | I8: =E8*H8 -> 0 | J8: -0.138 | K8: =E8*J8 -> -114.99678 | BB8: 1 | BC8: =IF(BB8=1,G8,0) -> 0 | BD8: =IF(BB8=2,G8,0) -> 0 | BE8: =IF(BB8=3,G8,0) -> 0 | BF8: =IF(BB8=4,G8,0) -> 0 | BG8: =IF(BB8=5,G8,0) -> 0
C9: Levá část:338,44 | E9: 338.44
C10: Pravá část:383,25 | E10: 383.25
C11: Nájezdy v pravé části:111,62 | E11: 111.62
A12: 2 | B12: 113 20-2111.R00 | C12: Vytrhání obrub z krajníků nebo obrubníků stojatých | D12: m | E12: 746.52 | G12: =E12*F12 -> 0 | H12: 0 | I12: =E12*H12 -> 0 | J12: -0.145 | K12: =E12*J12 -> -108.2454 | BB12: 1 | BC12: =IF(BB12=1,G12,0) -> 0 | BD12: =IF(BB12=2,G12,0) -> 0 | BE12: =IF(BB12=3,G12,0) -> 0 | BF12: =IF(BB12=4,G12,0) -> 0 | BG12: =IF(BB12=5,G12,0) -> 0
C13: Levá část:207,7 | E13: 207.7
C14: Pravá část:538,82 | E14: 538.82
A15: 3 | B15: 122 30-1102.R00 | C15: Odkopávky nezapažené v hor. 4 do 1000 m3 | D15: m3 | E15: 233.37 | G15: =E15*F15 -> 0 | H15: 0 | I15: =E15*H15 -> 0 | J15: 0 | K15: =E15*J15 -> 0 | BB15: 1 | BC15: =IF(BB15=1,G15,0) -> 0 | BD15: =IF(BB15=2,G15,0) -> 0 | BE15: =IF(BB15=3,G15,0) -> 0 | BF15: =IF(BB15=4,G15,0) -> 0 | BG15: =IF(BB15=5,G15,0) -> 0
C16: Levá část:56,57 | E16: 56.57
C17: Pravá část:67,81 | E17: 67.81
C18: Odpočet vybourané dlažby:-33,34 | E18: -33.34
C19: Nájezdy levá část:60,66 | E19: 60.66
C20: Nájezdy pravá část:81,67 | E20: 81.67
A21: 4 | B21: 122 30-1109.R00 | C21: Příplatek za lepivost - odkopávky v hor. 4 | D21: m3 | E21: 233.37 | G21: =E21*F21 -> 0 | H21: 0 | I21: =E21*H21 -> 0 | J21: 0 | K21: =E21*J21 -> 0 | BB21: 1 | BC21: =IF(BB21=1,G21,0) -> 0 | BD21: =IF(BB21=2,G21,0) -> 0 | BE21: =IF(BB21=3,G21,0) -> 0 | BF21: =IF(BB21=4,G21,0) -> 0 | BG21: =IF(BB21=5,G21,0) -> 0
A22: 5 | B22: 162 70-1104.R00 | C22: Vodorovné přemístění výkopku z hor.1-4 do 9000 m | D22: m3 | E22: 233.37 | G22: =E22*F22 -> 0 | H22: 0 | I22: =E22*H22 -> 0 | J22: 0 | K22: =E22*J22 -> 0 | BB22: 1 | BC22: =IF(BB22=1,G22,0) -> 0 | BD22: =IF(BB22=2,G22,0) -> 0 | BE22: =IF(BB22=3,G22,0) -> 0 | BF22: =IF(BB22=4,G22,0) -> 0 | BG22: =IF(BB22=5,G22,0) -> 0
A23: 6 | B23: 171 20-1101.R00 | C23: Uložení sypaniny do násypů nezhutněných | D23: m3 | E23: 233.37 | G23: =E23*F23 -> 0 | H23: 0 | I23: =E23*H23 -> 0 | J23: 0 | K23: =E23*J23 -> 0 | BB23: 1 | BC23: =IF(BB23=1,G23,0) -> 0 | BD23: =IF(BB23=2,G23,0) -> 0 | BE23: =IF(BB23=3,G23,0) -> 0 | BF23: =IF(BB23=4,G23,0) -> 0 | BG23: =IF(BB23=5,G23,0) -> 0
A24: 7 | B24: 199 00-0002.R00 | C24: Poplatek za skládku horniny 1- 4 | D24: m3 | E24: 233.37 | G24: =E24*F24 -> 0 | H24: 0 | I24: =E24*H24 -> 0 | J24: 0 | K24: =E24*J24 -> 0 | BB24: 1 | BC24: =IF(BB24=1,G24,0) -> 0 | BD24: =IF(BB24=2,G24,0) -> 0 | BE24: =IF(BB24=3,G24,0) -> 0 | BF24: =IF(BB24=4,G24,0) -> 0 | BG24: =IF(BB24=5,G24,0) -> 0
A25: 8 | B25: 181 10-1102.R00 | C25: Úprava pláně v zářezech v hor. 1-4, se zhutněním | D25: m2 | E25: 1042.8 | G25: =E25*F25 -> 0 | H25: 0 | I25: =E25*H25 -> 0 | J25: 0 | K25: =E25*J25 -> 0 | BB25: 1 | BC25: =IF(BB25=1,G25,0) -> 0 | BD25: =IF(BB25=2,G25,0) -> 0 | BE25: =IF(BB25=3,G25,0) -> 0 | BF25: =IF(BB25=4,G25,0) -> 0 | BG25: =IF(BB25=5,G25,0) -> 0
A26: 9 | B26: 113 10-6121.R00 | C26: Rozebrání dlažeb z betonových dlaždic na sucho | D26: m2 | E26: 60 | G26: =E26*F26 -> 0 | H26: 0 | I26: =E26*H26 -> 0 | J26: -0.138 | K26: =E26*J26 -> -8.28 | BB26: 1 | BC26: =IF(BB26=1,G26,0) -> 0 | BD26: =IF(BB26=2,G26,0) -> 0 | BE26: =IF(BB26=3,G26,0) -> 0 | BF26: =IF(BB26=4,G26,0) -> 0 | BG26: =IF(BB26=5,G26,0) -> 0
C27: Oprava stávajících dlažeb:60 | E27: 60
A28: 10 | B28: 113 20-1115.R00 | C28: Vytrhání odvodňovacích žlabů | D28: m | E28: 20.5 | G28: =E28*F28 -> 0 | H28: 0 | I28: =E28*H28 -> 0 | J28: -0.23 | K28: =E28*J28 -> -4.715 | BB28: 1 | BC28: =IF(BB28=1,G28,0) -> 0 | BD28: =IF(BB28=2,G28,0) -> 0 | BE28: =IF(BB28=3,G28,0) -> 0 | BF28: =IF(BB28=4,G28,0) -> 0 | BG28: =IF(BB28=5,G28,0) -> 0
A29: 11 | B29: 181 30-0010.RAD | C29: Rozprostření ornice v rovině tloušťka 15 cm dovoz ornice ze vzdálenosti 10 km, osetí trávou | D29: m2 | E29: 500 | G29: =E29*F29 -> 0 | H29: 3e-05 | I29: =E29*H29 -> 0.015 | J29: 0 | K29: =E29*J29 -> 0 | BB29: 1 | BC29: =IF(BB29=1,G29,0) -> 0 | BD29: =IF(BB29=2,G29,0) -> 0 | BE29: =IF(BB29=3,G29,0) -> 0 | BF29: =IF(BB29=4,G29,0) -> 0 | BG29: =IF(BB29=5,G29,0) -> 0
B30: Celkem za | C30: =CONCATENATE(B7," ",C7) -> 1 Zemní práce | G30: =SUM(G7:G29) -> 0 | I30: =SUM(I7:I29) -> 0.015 | K30: =SUM(K7:K29) -> -236.23718 | BC30: =SUM(BC7:BC29) -> 0 | BD30: =SUM(BD7:BD29) -> 0 | BE30: =SUM(BE7:BE29) -> 0 | BF30: =SUM(BF7:BF29) -> 0 | BG30: =SUM(BG7:BG29) -> 0
A31: Díl: | B31: 5 | C31: Komunikace
A32: 12 | B32: 596 21-5020.R00 | C32: Kladení zámkové dlažby tl. 6 cm do drtě tl. 3 cm | D32: m2 | E32: 518.26 | G32: =E32*F32 -> 0 | H32: 0.05545 | I32: =E32*H32 -> 28.737517 | J32: 0 | K32: =E32*J32 -> 0 | BB32: 1 | BC32: =IF(BB32=1,G32,0) -> 0 | BD32: =IF(BB32=2,G32,0) -> 0 | BE32: =IF(BB32=3,G32,0) -> 0 | BF32: =IF(BB32=4,G32,0) -> 0 | BG32: =IF(BB32=5,G32,0) -> 0
C33: Levá část:235,7 | E33: 235.7
C34: Pravá část:282,56 | E34: 282.56
A35: 13 | B35: 592-45308 | C35: Dlažba betonová přírodní 20x10x6 | D35: m2 | E35: 518.26 | G35: =E35*F35 -> 0 | H35: 0.131 | I35: =E35*H35 -> 67.89206 | J35: 0 | K35: =E35*J35 -> 0 | BB35: 1 | BC35: =IF(BB35=1,G35,0) -> 0 | BD35: =IF(BB35=2,G35,0) -> 0 | BE35: =IF(BB35=3,G35,0) -> 0 | BF35: =IF(BB35=4,G35,0) -> 0 | BG35: =IF(BB35=5,G35,0) -> 0
A36: 14 | B36: 596 21-5040.R00 | C36: Kladení zámkové dlažby tl. 8 cm do drtě tl. 4 cm | D36: m2 | E36: 444.78 | G36: =E36*F36 -> 0 | H36: 0.0739 | I36: =E36*H36 -> 32.869242 | J36: 0 | K36: =E36*J36 -> 0 | BB36: 1 | BC36: =IF(BB36=1,G36,0) -> 0 | BD36: =IF(BB36=2,G36,0) -> 0 | BE36: =IF(BB36=3,G36,0) -> 0 | BF36: =IF(BB36=4,G36,0) -> 0 | BG36: =IF(BB36=5,G36,0) -> 0
C37: Levá část: 189,57 | E37: 189.57
C38: Pravá část:239,13 | E38: 239.13
C39: Hmatová:16,08 | E39: 16.08
A40: 15 | B40: 592-45264 | C40: Dlažba betonová červená pro nevidomé 20x10x8 | D40: m2 | E40: 16.08 | G40: =E40*F40 -> 0 | H40: 0.176 | I40: =E40*H40 -> 2.83008 | J40: 0 | K40: =E40*J40 -> 0 | BB40: 1 | BC40: =IF(BB40=1,G40,0) -> 0 | BD40: =IF(BB40=2,G40,0) -> 0 | BE40: =IF(BB40=3,G40,0) -> 0 | BF40: =IF(BB40=4,G40,0) -> 0 | BG40: =IF(BB40=5,G40,0) -> 0
A41: 16 | B41: 597 10-1020.RAA | C41: Žlab odvodňovací polymerbeton, zatížení B 125 kN včetně dodávky roštu a žlabu | D41: m | E41: 20.5 | G41: =E41*F41 -> 0 | H41: 0.12866 | I41: =E41*H41 -> 2.63753 | J41: 0 | K41: =E41*J41 -> 0 | BB41: 1 | BC41: =IF(BB41=1,G41,0) -> 0 | BD41: =IF(BB41=2,G41,0) -> 0 | BE41: =IF(BB41=3,G41,0) -> 0 | BF41: =IF(BB41=4,G41,0) -> 0 | BG41: =IF(BB41=5,G41,0) -> 0
A42: 17 | B42: 592-45265 | C42: Dlažba BETONOVÁ PŘÍRODNÍ 20x10x8 | D42: m2 | E42: 428.7 | G42: =E42*F42 -> 0 | H42: 0.176 | I42: =E42*H42 -> 75.4512 | J42: 0 | K42: =E42*J42 -> 0 | BB42: 1 | BC42: =IF(BB42=1,G42,0) -> 0 | BD42: =IF(BB42=2,G42,0) -> 0 | BE42: =IF(BB42=3,G42,0) -> 0 | BF42: =IF(BB42=4,G42,0) -> 0 | BG42: =IF(BB42=5,G42,0) -> 0
C43: 239,13+189,57 | E43: 428.7
A44: 18 | B44: 596 21-5021.R00 | C44: Kladení zámkové dlažby tl. 6 cm do drtě tl. 4 cm | D44: m2 | E44: 60 | G44: =E44*F44 -> 0 | H44: 0.0739 | I44: =E44*H44 -> 4.434 | J44: 0 | K44: =E44*J44 -> 0 | BB44: 1 | BC44: =IF(BB44=1,G44,0) -> 0 | BD44: =IF(BB44=2,G44,0) -> 0 | BE44: =IF(BB44=3,G44,0) -> 0 | BF44: =IF(BB44=4,G44,0) -> 0 | BG44: =IF(BB44=5,G44,0) -> 0
C45: Oprava stávajících dlažeb:60 | E45: 60
A46: 19 | B46: 564 86-1111.R00 | C46: Podklad ze štěrkodrti po zhutnění tloušťky 20 cm | D46: m2 | E46: 444.78 | G46: =E46*F46 -> 0 | H46: 0.3708 | I46: =E46*H46 -> 164.92442 | J46: 0 | K46: =E46*J46 -> 0 | BB46: 1 | BC46: =IF(BB46=1,G46,0) -> 0 | BD46: =IF(BB46=2,G46,0) -> 0 | BE46: =IF(BB46=3,G46,0) -> 0 | BF46: =IF(BB46=4,G46,0) -> 0 | BG46: =IF(BB46=5,G46,0) -> 0
A47: 20 | B47: 564 85-1111.R00 | C47: Podklad ze štěrkodrti po zhutnění tloušťky 15 cm | D47: m2 | E47: 518.26 | G47: =E47*F47 -> 0 | H47: 0.27994 | I47: =E47*H47 -> 145.0817 | J47: 0 | K47: =E47*J47 -> 0 | BB47: 1 | BC47: =IF(BB47=1,G47,0) -> 0 | BD47: =IF(BB47=2,G47,0) -> 0 | BE47: =IF(BB47=3,G47,0) -> 0 | BF47: =IF(BB47=4,G47,0) -> 0 | BG47: =IF(BB47=5,G47,0) -> 0
B48: Celkem za | C48: =CONCATENATE(B31," ",C31) -> 5 Komunikace | G48: =SUM(G31:G47) -> 0 | I48: =SUM(I31:I47) -> 524.85776 | K48: =SUM(K31:K47) -> 0 | BC48: =SUM(BC31:BC47) -> 0 | BD48: =SUM(BD31:BD47) -> 0 | BE48: =SUM(BE31:BE47) -> 0 | BF48: =SUM(BF31:BF47) -> 0 | BG48: =SUM(BG31:BG47) -> 0
A49: Díl: | B49: 8 | C49: Trubní vedení
A50: 21 | B50: 899 43-1111.R00 | C50: Výšková úprava do 20 cm, zvýšení krytu šoupěte | D50: kus | E50: 8 | G50: =E50*F50 -> 0 | H50: 0.3159 | I50: =E50*H50 -> 2.5272 | J50: 0 | K50: =E50*J50 -> 0 | BB50: 1 | BC50: =IF(BB50=1,G50,0) -> 0 | BD50: =IF(BB50=2,G50,0) -> 0 | BE50: =IF(BB50=3,G50,0) -> 0 | BF50: =IF(BB50=4,G50,0) -> 0 | BG50: =IF(BB50=5,G50,0) -> 0
A51: 22 | B51: 831 35-0113.RAD | C51: Kanalizační přípojka z trub PVC, DN 160 rýha šířky 0,9 m, hloubky 1,5 m | D51: m | E51: 18 | G51: =E51*F51 -> 0 | H51: 0.5413 | I51: =E51*H51 -> 9.7434 | J51: 0 | K51: =E51*J51 -> 0 | BB51: 1 | BC51: =IF(BB51=1,G51,0) -> 0 | BD51: =IF(BB51=2,G51,0) -> 0 | BE51: =IF(BB51=3,G51,0) -> 0 | BF51: =IF(BB51=4,G51,0) -> 0 | BG51: =IF(BB51=5,G51,0) -> 0
B52: Celkem za | C52: =CONCATENATE(B49," ",C49) -> 8 Trubní vedení | G52: =SUM(G49:G51) -> 0 | I52: =SUM(I49:I51) -> 12.2706 | K52: =SUM(K49:K51) -> 0 | BC52: =SUM(BC49:BC51) -> 0 | BD52: =SUM(BD49:BD51) -> 0 | BE52: =SUM(BE49:BE51) -> 0 | BF52: =SUM(BF49:BF51) -> 0 | BG52: =SUM(BG49:BG51) -> 0
A53: Díl: | B53: 91 | C53: Doplňující práce na komunikaci
A54: 23 | B54: 917 86-2111.RT5 | C54: Osazení stojat. obrub. bet. s opěrou,lože z B 12,5 včetně obrubníku ABO 13 - 10 100/10/25 | D54: m | E54: 757.5 | G54: =E54*F54 -> 0 | H54: 0.20164 | I54: =E54*H54 -> 152.7423 | J54: 0 | K54: =E54*J54 -> 0 | BB54: 1 | BC54: =IF(BB54=1,G54,0) -> 0 | BD54: =IF(BB54=2,G54,0) -> 0 | BE54: =IF(BB54=3,G54,0) -> 0 | BF54: =IF(BB54=4,G54,0) -> 0 | BG54: =IF(BB54=5,G54,0) -> 0
C55: Levá část:233,70 | E55: 233.7
C56: Pravá část:523,8 | E56: 523.8
A57: 24 | B57: 917 86-2111.R00 | C57: Osazení stojat. obrub. bet. s opěrou,lože z B 12,5 | D57: m | E57: 40.15 | G57: =E57*F57 -> 0 | H57: 0.14424 | I57: =E57*H57 -> 5.791236 | J57: 0 | K57: =E57*J57 -> 0 | BB57: 1 | BC57: =IF(BB57=1,G57,0) -> 0 | BD57: =IF(BB57=2,G57,0) -> 0 | BE57: =IF(BB57=3,G57,0) -> 0 | BF57: =IF(BB57=4,G57,0) -> 0 | BG57: =IF(BB57=5,G57,0) -> 0
A58: 25 | B58: 592-17476 | C58: Obrubník silniční nájezdový 1000/150/150 šedý | D58: kus | E58: 41 | G58: =E58*F58 -> 0 | H58: 0.048 | I58: =E58*H58 -> 1.968 | J58: 0 | K58: =E58*J58 -> 0 | BB58: 1 | BC58: =IF(BB58=1,G58,0) -> 0 | BD58: =IF(BB58=2,G58,0) -> 0 | BE58: =IF(BB58=3,G58,0) -> 0 | BF58: =IF(BB58=4,G58,0) -> 0 | BG58: =IF(BB58=5,G58,0) -> 0
B59: Celkem za | C59: =CONCATENATE(B53," ",C53) -> 91 Doplňující práce na komunikaci | G59: =SUM(G53:G58) -> 0 | I59: =SUM(I53:I58) -> 160.50154 | K59: =SUM(K53:K58) -> 0 | BC59: =SUM(BC53:BC58) -> 0 | BD59: =SUM(BD53:BD58) -> 0 | BE59: =SUM(BE53:BE58) -> 0 | BF59: =SUM(BF53:BF58) -> 0 | BG59: =SUM(BG53:BG58) -> 0
A60: Díl: | B60: 97 | C60: Prorážení otvorů
A61: 26 | B61: 979 02-4441.R00 | C61: Očištění vybour. obrubníků všech loží a výplní | D61: m | E61: 746.52 | G61: =E61*F61 -> 0 | H61: 0 | I61: =E61*H61 -> 0 | J61: 0 | K61: =E61*J61 -> 0 | BB61: 1 | BC61: =IF(BB61=1,G61,0) -> 0 | BD61: =IF(BB61=2,G61,0) -> 0 | BE61: =IF(BB61=3,G61,0) -> 0 | BF61: =IF(BB61=4,G61,0) -> 0 | BG61: =IF(BB61=5,G61,0) -> 0
A62: 27 | B62: 979 05-4441.R00 | C62: Očištění vybour. dlaždic s výplní kamen. Těženým NENACEŇOVAT - PROVEDE OBEC SAMA ! | D62: m2 | E62: 833.31 | G62: =E62*F62 -> 0 | H62: 0 | I62: =E62*H62 -> 0 | J62: 0 | K62: =E62*J62 -> 0 | BB62: 1 | BC62: =IF(BB62=1,G62,0) -> 0 | BD62: =IF(BB62=2,G62,0) -> 0 | BE62: =IF(BB62=3,G62,0) -> 0 | BF62: =IF(BB62=4,G62,0) -> 0 | BG62: =IF(BB62=5,G62,0) -> 0
A63: 28 | B63: 979 99-0101.R00 | C63: Poplatek za skládku suti - směs betonu a cihel | D63: t | E63: 112.9604 | G63: =E63*F63 -> 0 | H63: 0 | I63: =E63*H63 -> 0 | J63: 0 | K63: =E63*J63 -> 0 | BB63: 1 | BC63: =IF(BB63=1,G63,0) -> 0 | BD63: =IF(BB63=2,G63,0) -> 0 | BE63: =IF(BB63=3,G63,0) -> 0 | BF63: =IF(BB63=4,G63,0) -> 0 | BG63: =IF(BB63=5,G63,0) -> 0
C64: 108,2454+4,715 | E64: 112.9604
A65: 29 | B65: 979 09-3111.R00 | C65: Uložení suti na skládku bez zhutnění | D65: t | E65: 112.9604 | G65: =E65*F65 -> 0 | H65: 0 | I65: =E65*H65 -> 0 | J65: 0 | K65: =E65*J65 -> 0 | BB65: 1 | BC65: =IF(BB65=1,G65,0) -> 0 | BD65: =IF(BB65=2,G65,0) -> 0 | BE65: =IF(BB65=3,G65,0) -> 0 | BF65: =IF(BB65=4,G65,0) -> 0 | BG65: =IF(BB65=5,G65,0) -> 0
A66: 30 | B66: 979 08-2213.R00 | C66: Vodorovná doprava suti po suchu do 1 km | D66: t | E66: 112.9604 | G66: =E66*F66 -> 0 | H66: 0 | I66: =E66*H66 -> 0 | J66: 0 | K66: =E66*J66 -> 0 | BB66: 1 | BC66: =IF(BB66=1,G66,0) -> 0 | BD66: =IF(BB66=2,G66,0) -> 0 | BE66: =IF(BB66=3,G66,0) -> 0 | BF66: =IF(BB66=4,G66,0) -> 0 | BG66: =IF(BB66=5,G66,0) -> 0
A67: 31 | B67: 979 08-2219.R00 | C67: Příplatek za dopravu suti po suchu za další 1 km | D67: t | E67: 1694.406 | G67: =E67*F67 -> 0 | H67: 0 | I67: =E67*H67 -> 0 | J67: 0 | K67: =E67*J67 -> 0 | BB67: 1 | BC67: =IF(BB67=1,G67,0) -> 0 | BD67: =IF(BB67=2,G67,0) -> 0 | BE67: =IF(BB67=3,G67,0) -> 0 | BF67: =IF(BB67=4,G67,0) -> 0 | BG67: =IF(BB67=5,G67,0) -> 0
C68: 112,9604*15 | E68: 1694.406
B69: Celkem za | C69: =CONCATENATE(B60," ",C60) -> 97 Prorážení otvorů | G69: =SUM(G60:G68) -> 0 | I69: =SUM(I60:I68) -> 0 | K69: =SUM(K60:K68) -> 0 | BC69: =SUM(BC60:BC68) -> 0 | BD69: =SUM(BD60:BD68) -> 0 | BE69: =SUM(BE60:BE68) -> 0 | BF69: =SUM(BF60:BF68) -> 0 | BG69: =SUM(BG60:BG68) -> 0
A70: Díl: | B70: 99 | C70: Staveništní přesun hmot
A71: 32 | B71: 998 22-3011.R00 | C71: Přesun hmot, pozemní komunikace, kryt dlážděný | D71: t | E71: 739.7168 | G71: =E71*F71 -> 0 | H71: 0 | I71: =E71*H71 -> 0 | J71: 0 | K71: =E71*J71 -> 0 | BB71: 1 | BC71: =IF(BB71=1,G71,0) -> 0 | BD71: =IF(BB71=2,G71,0) -> 0 | BE71: =IF(BB71=3,G71,0) -> 0 | BF71: =IF(BB71=4,G71,0) -> 0 | BG71: =IF(BB71=5,G71,0) -> 0
C72: 566,94463+12,2706+160,50154 | E72: 739.7168
B73: Celkem za | C73: =CONCATENATE(B70," ",C70) -> 99 Staveništní přesun hmot | G73: =SUM(G70:G72) -> 0 | I73: =SUM(I70:I72) -> 0 | K73: =SUM(K70:K72) -> 0 | BC73: =SUM(BC70:BC72) -> 0 | BD73: =SUM(BD70:BD72) -> 0 | BE73: =SUM(BE70:BE72) -> 0 | BF73: =SUM(BF70:BF72) -> 0 | BG73: =SUM(BG70:BG72) -> 0
A74: Díl: | B74: M46 | C74: Zemní práce při montážích
A75: 33 | B75: 460 11-0001.R00 | C75: Sonda pro vyhledání objektů V.A.S. a.s. - výkop | D75: kus | E75: 10 | G75: =E75*F75 -> 0 | H75: 0 | I75: =E75*H75 -> 0 | J75: 0 | K75: =E75*J75 -> 0 | BB75: 4 | BC75: =IF(BB75=1,G75,0) -> 0 | BD75: =IF(BB75=2,G75,0) -> 0 | BE75: =IF(BB75=3,G75,0) -> 0 | BF75: =IF(BB75=4,G75,0) -> 0 | BG75: =IF(BB75=5,G75,0) -> 0
A76: 34 | B76: 460 11-0101.R00 | C76: Sonda pro vyhledání objektů V.A.S. a.s - zához | D76: kus | E76: 10 | G76: =E76*F76 -> 0 | H76: 0 | I76: =E76*H76 -> 0 | J76: 0 | K76: =E76*J76 -> 0 | BB76: 4 | BC76: =IF(BB76=1,G76,0) -> 0 | BD76: =IF(BB76=2,G76,0) -> 0 | BE76: =IF(BB76=3,G76,0) -> 0 | BF76: =IF(BB76=4,G76,0) -> 0 | BG76: =IF(BB76=5,G76,0) -> 0
B77: Celkem za | C77: =CONCATENATE(B74," ",C74) -> M46 Zemní práce při montážích | G77: =SUM(G74:G76) -> 0 | I77: =SUM(I74:I76) -> 0 | K77: =SUM(K74:K76) -> 0 | BC77: =SUM(BC74:BC76) -> 0 | BD77: =SUM(BD74:BD76) -> 0 | BE77: =SUM(BE74:BE76) -> 0 | BF77: =SUM(BF74:BF76) -> 0 | BG77: =SUM(BG74:BG76) -> 0
